BEGIN:VCALENDAR
VERSION:2.0
PRODID:-//Street Photography Stuttgart - ECPv6.15.17.1//NONSGML v1.0//EN
CALSCALE:GREGORIAN
METHOD:PUBLISH
X-ORIGINAL-URL:https://juergenwinkels-fotografie.info
X-WR-CALDESC:Veranstaltungen für Street Photography Stuttgart
REFRESH-INTERVAL;VALUE=DURATION:PT1H
X-Robots-Tag:noindex
X-PUBLISHED-TTL:PT1H
BEGIN:VTIMEZONE
TZID:Europe/Berlin
BEGIN:DAYLIGHT
TZOFFSETFROM:+0100
TZOFFSETTO:+0200
TZNAME:CEST
DTSTART:20240331T010000
END:DAYLIGHT
BEGIN:STANDARD
TZOFFSETFROM:+0200
TZOFFSETTO:+0100
TZNAME:CET
DTSTART:20241027T010000
END:STANDARD
BEGIN:DAYLIGHT
TZOFFSETFROM:+0100
TZOFFSETTO:+0200
TZNAME:CEST
DTSTART:20250330T010000
END:DAYLIGHT
BEGIN:STANDARD
TZOFFSETFROM:+0200
TZOFFSETTO:+0100
TZNAME:CET
DTSTART:20251026T010000
END:STANDARD
BEGIN:DAYLIGHT
TZOFFSETFROM:+0100
TZOFFSETTO:+0200
TZNAME:CEST
DTSTART:20260329T010000
END:DAYLIGHT
BEGIN:STANDARD
TZOFFSETFROM:+0200
TZOFFSETTO:+0100
TZNAME:CET
DTSTART:20261025T010000
END:STANDARD
END:VTIMEZONE
BEGIN:VEVENT
DTSTART;TZID=Europe/Berlin:20251214T150000
DTEND;TZID=Europe/Berlin:20251214T180000
DTSTAMP:20260423T164642
CREATED:20251104T064320Z
LAST-MODIFIED:20251104T064508Z
UID:1308-1765724400-1765735200@juergenwinkels-fotografie.info
SUMMARY:Streetphotography | get together
DESCRIPTION:Zum Ausklang des Jahres treffen wir uns auf dem Stuttgarter Weihnachtsmarkt. Heute geht es um Glühwein und Schokofrüchte und um nette Gespräche. Kameras sind natürlich nicht verboten.
URL:https://juergenwinkels-fotografie.info/event/streetphotography-get-together/
LOCATION:Stuttgart Schloßplatz (Auf dem Weihnachtsmarkt am Eingang der Schlittschuhbahn)\, Schloßplatz 1\, Stuttgart\, Baden-Württemberg\, 70173\, Germany
CATEGORIES:Meetup
ATTACH;FMTTYPE=image/png:https://juergenwinkels-fotografie.info/wp-content/uploads/2025/11/Bildschirmfoto-2025-11-04-um-07.35.11.png
ORGANIZER;CN="J%C3%BCrgen Winkels":MAILTO:email@juergenwinkels.de
END:VEVENT
BEGIN:VEVENT
DTSTART;TZID=Europe/Berlin:20251221T090000
DTEND;TZID=Europe/Berlin:20251221T130000
DTSTAMP:20260423T164642
CREATED:20251102T104228Z
LAST-MODIFIED:20251102T105123Z
UID:1293-1766307600-1766322000@juergenwinkels-fotografie.info
SUMMARY:Dein Blick für das Besondere
DESCRIPTION:Ein fotografischer Workshop für Einsteiger:innen in die Streetphotography \n\n\n\nInmitten des Gewöhnlichen liegt das Besondere – verborgen in der Lichtkante an einer Hauswand\, in der stillen Geste eines Passanten\, im Chaos einer Ampelkreuzung. Diesem Unsichtbaren nähern wir uns in diesem Workshop mit Geduld\, mit wachem Blick und mit künstlerischer Neugier. \n\n\n\nWir führen ein in verschiedene Stile der Streetphotography und analysieren Beispielbilder bekannter Fotograf:innen. Im Zentrum stehen Übungen zum bewussten Sehen – Du lernst\, Momente zu erkennen\, bevor Du sie fotografierst. Praxis-Shootings im öffentlichen Raum\, angeleitet durch Aufgabenstellungen\, öffnen Dir die Möglichkeit\, Deine eigene Bildsprache zu entdecken. \n\n\n\nIn einer abschließenden Feedbackrunde werden erste Ergebnisse gemeinsam besprochen – in wertschätzender\, aber kritischer Atmosphäre. \n\n\n\nInhalte: \n\n\n\n\nEinführung in verschiedene Street-Stile\n\n\n\nÜbungen zum bewussten Sehen\n\n\n\nPraxis-Shooting im Stadtraum\n\n\n\nVorstellung von bekannten Street-Fotograf:innen\n\n\n\nFeedbackrunde mit Bildbesprechung\n\n\n\n\nMethodik:Kurze theoretische Impulse\, praktische Übungen\, begleitete Fotografie\, Reflexion in der Gruppe \n\n\n\nZiel:Ein sicherer und inspirierter Einstieg ins Genre Streetphotography. Entwicklung eines bewussten fotografischen Blicks. \n\n\n\nLocation: \n\n\n\n\nCampus der Universität Stuttgart Vaihingen\n\n\n\nTreffpunkt: Außen vor der  der Bibliothek der Hochschule für Medien\n\n\n\nTreffpunkt: Nobelstraße 8\, 70569 Stuttgart\n\n\n\n\nTermin: \n\n\n\nDauer: 3\,5 Stunden \n\n\n\nSonntag: 21.12.2025 \n\n\n\nBeginn: 09:00
URL:https://juergenwinkels-fotografie.info/event/dein-blick-fuer-das-besondere/
LOCATION:Bilbiothek der Hochschule der Medien [Stuttgart Vaihingen]\, Nobelstraße 10\, Stuttgart\, Baden-Württemberg\, 70569\, Germany
CATEGORIES:Workshop
ATTACH;FMTTYPE=image/png:https://juergenwinkels-fotografie.info/wp-content/uploads/2025/11/Produktbild-Dein-Blick-fuer-das-Besondere.png
ORGANIZER;CN="J%C3%BCrgen Winkels":MAILTO:email@juergenwinkels.de
END:VEVENT
END:VCALENDAR