BEGIN:VCALENDAR
VERSION:2.0
PRODID:-//Street Photography Stuttgart - ECPv6.15.17.1//NONSGML v1.0//EN
CALSCALE:GREGORIAN
METHOD:PUBLISH
X-WR-CALNAME:Street Photography Stuttgart
X-ORIGINAL-URL:https://juergenwinkels-fotografie.info
X-WR-CALDESC:Veranstaltungen für Street Photography Stuttgart
REFRESH-INTERVAL;VALUE=DURATION:PT1H
X-Robots-Tag:noindex
X-PUBLISHED-TTL:PT1H
BEGIN:VTIMEZONE
TZID:Europe/Berlin
BEGIN:DAYLIGHT
TZOFFSETFROM:+0100
TZOFFSETTO:+0200
TZNAME:CEST
DTSTART:20240331T010000
END:DAYLIGHT
BEGIN:STANDARD
TZOFFSETFROM:+0200
TZOFFSETTO:+0100
TZNAME:CET
DTSTART:20241027T010000
END:STANDARD
BEGIN:DAYLIGHT
TZOFFSETFROM:+0100
TZOFFSETTO:+0200
TZNAME:CEST
DTSTART:20250330T010000
END:DAYLIGHT
BEGIN:STANDARD
TZOFFSETFROM:+0200
TZOFFSETTO:+0100
TZNAME:CET
DTSTART:20251026T010000
END:STANDARD
BEGIN:DAYLIGHT
TZOFFSETFROM:+0100
TZOFFSETTO:+0200
TZNAME:CEST
DTSTART:20260329T010000
END:DAYLIGHT
BEGIN:STANDARD
TZOFFSETFROM:+0200
TZOFFSETTO:+0100
TZNAME:CET
DTSTART:20261025T010000
END:STANDARD
END:VTIMEZONE
BEGIN:VEVENT
DTSTART;TZID=Europe/Berlin:20251115T090000
DTEND;TZID=Europe/Berlin:20251115T170000
DTSTAMP:20260423T181538
CREATED:20250824T192446Z
LAST-MODIFIED:20250824T193548Z
UID:1238-1763197200-1763226000@juergenwinkels-fotografie.info
SUMMARY:Masterclass Monochrom\, 15.11.2025
DESCRIPTION:Monochrom: Die Kunst der Schwarzweiß-Fotografie \n\n\n\nTauche ein in die zeitlose Welt der Schwarzweiß-Fotografie und perfektioniere dein Können in unserer exklusiven Masterclass. Lerne\, wie du mit Licht\, Schatten und Komposition beeindruckende\, ausdrucksstarke Bilder erschaffst. Von den Grundlagen der Kameratechnik bis zur professionellen Bildbearbeitung in Lightroom und Photoshop – in diesem Workshop erfährst du\, wie du deine Fotos in wahre Kunstwerke verwandelst. \n\n\n\nEin besonderes Highlight: Du fotografierst in der einzigartigen Kulisse des denkmalgeschützten Hauses auf der Alb in Bad Urach\, einem Juwel der modernen Architektur\, dessen klare Linien und minimalistisches Design die perfekte Bühne für deine monochromen Meisterwerke bieten. \n\n\n\nDetails auf einen Blick: \n\n\n\nIdeal für: Ambitionierte Hobbyfotografen \n\n\n\nTermin: 15. November 2025 \n\n\n\nZeit: 09:00 – 17:00 Uhr \n\n\n\nOrt: Haus auf der Alb\, Bad Urach
URL:https://juergenwinkels-fotografie.info/event/masterclass-monochrom-15-11-2025/
LOCATION:Bad Urach\, Haus auf der Alb\, Hanner Steige 1\, Bad Urach\, Baden-Württemberg\, 72574\, Germany
CATEGORIES:Workshop
ATTACH;FMTTYPE=image/png:https://juergenwinkels-fotografie.info/wp-content/uploads/2025/08/Masterclass-Monochrom-Produktbild.png
ORGANIZER;CN="J%C3%BCrgen Winkels":MAILTO:email@juergenwinkels.de
END:VEVENT
BEGIN:VEVENT
DTSTART;TZID=Europe/Berlin:20251116T150000
DTEND;TZID=Europe/Berlin:20251116T180000
DTSTAMP:20260423T181538
CREATED:20251103T174000Z
LAST-MODIFIED:20251103T184522Z
UID:1300-1763305200-1763316000@juergenwinkels-fotografie.info
SUMMARY:Unauffällig\, wach\, präzise
DESCRIPTION:Ein kuratierter Fotowalk für Fortgeschrittene – über Präsenz\, Zurückhaltung und das richtige Timing \n\n\n\nBeschreibung \n\n\n\nDieser Street-Fotografie-Walk führt dich durch eine kuratierte Route im kulturellen Herzen Stuttgarts\, die den Wandel und die Eleganz der Stadt widerspiegelt. Du beginnst am Eckensee vor der Oper\, einem Ort der Ruhe und des klassischen Auftritts\, wo Licht und Reflexionen dominieren. Über die Passagen des Oberen Schlossgartens bewegst du dich in die architektonisch vielseitige Umgebung der Staatsgalerie\, die mit ihren klaren\, grafischen Linien starke Kontraste zwischen Altbau und Postmoderne bietet. Der Weg durch dieses Ensemble ist eine Reise durch die Hochkultur und die lebendige Alltagskunst\, bevor der Walk in der Umgebung des Hauses der Geschichte und der Landesbibliothek endet. Es ist eine Tour voller visueller und inhaltlicher Kontraste\, die es dir ermöglicht\, die Dynamik zwischen Kunst\, Geschichte und dem urbanen Puls in deinen Bildern festzuhalten. \n\n\n\nWie läuft der Fotowalk ab? \n\n\n\nDieser Walk ist kein Training und keine Schulung\, sondern ein stilles Üben. Der Walk ist themengeleitet und konzentriert sich auf eine gezielte fotografische Fokussierung. Du arbeitest in stiller Präsenz\, beobachtest und antizipierst unauffällig die Szenen. Der Walk zielt auf die Konzentration\, auf Haltung statt Aktion. Begleitet wird der Walk mit Themenimpulsen und Aufgabenstellungen. Bei Bedarf stehe ich für situatives Feedback und Fragen zur Verfügung. \n\n\n\nFür wen ist der Kurs geeignet? \n\n\n\nDer Walk ist für Fotografen geeignet\, die sich bewusst auf ihre gestalterischen Fähigkeiten konzentrieren möchten. Er richtet sich an diejenigen\, die ihre Präsenz und präzise Beobachtung in der Street-Fotografie schärfen und ihre Konzentration auf Haltung statt Aktion lenken wollen. \n\n\n\nWas ist inklusive? \n\n\n\n\nThemengeleiteter Walk\n\n\n\nPassende Location\n\n\n\nGezielte Aufgabenstellung zur Umsetzung und Reflexion\n\n\n\nOptionales Feedback zu Ihren Aufnahmen\n\n\n\n\nWas muss mitgebracht werden? \n\n\n\n\nKamera\n\n\n\nIdealerweise Objektiv als Festbrennweite\n\n\n\nNormalobjektiv oder leichtes Weitwinkel\n\n\n\nAusreichend Akkus und Speicherkarten\n\n\n\nBequeme und wettergerechte Kleidung und Schuhe\, da der Walk bei jedem Wetter stattfindet.
URL:https://juergenwinkels-fotografie.info/event/unauffaellig-wach-praezise/
LOCATION:Staatsoper Stuttgart (am überdachten Seiteneingang)\, Oberer Schloßgarten 6\, Stuttgart\, Baden-Württemberg\, 70173\, Germany
CATEGORIES:Photowalk
ATTACH;FMTTYPE=image/png:https://juergenwinkels-fotografie.info/wp-content/uploads/2025/07/Produktbild-Fotowalk.png
ORGANIZER;CN="J%C3%BCrgen Winkels":MAILTO:email@juergenwinkels.de
END:VEVENT
END:VCALENDAR